BEGIN:VCALENDAR
VERSION:2.0
PRODID:SchoolNow
CALSCALE:GREGORIAN
BEGIN:VEVENT
UID:1930d5ba-89af-11f0-a4ba-0a58a9feac02
DTSTAMP:20250904T164918Z
SUMMARY:CDD Board Meeting - May 2026
LOCATION:Town of Kindred Clubhouse - 1450 Diamond Loop Drive\, Kissimmee\, 
 Florida 34744
URL;VALUE=URI:https://www.townofkindredcdd.org/calendar/8580479/cdd-board-m
 eeting-may-2026
DTSTART:20260507T220000Z
DTEND:20260508T010000Z
END:VEVENT
END:VCALENDAR
