BEGIN:VCALENDAR
VERSION:2.0
PRODID:SchoolNow
CALSCALE:GREGORIAN
BEGIN:VEVENT
UID:91c54114-89af-11f0-ab06-0efd9bb45fa9
DTSTAMP:20250904T165240Z
SUMMARY:CDD Board Meeting - July 2026
LOCATION:Town of Kindred Clubhouse - 1450 Diamond Loop Drive\, Kissimmee\, 
 Florida 34744
URL;VALUE=URI:https://www.townofkindredcdd.org/calendar/8580480/cdd-board-m
 eeting-july-2026
DTSTART:20260709T180000Z
DTEND:20260709T210000Z
END:VEVENT
END:VCALENDAR
